Workbook

Sheet Consolidate PL
A1: In the following statements, net credit risk losses/reversals of the Npl Segment are reclassified to interest receivable and similar income (and therefore to “Net interest income”) to the extent to which they represent the operations of this business and are an integral part of the return on the investment; net allocations to provisions for risks and charges, charges related to the banking system and non recurring items are excluded from the calculation of “Operating costs”.
A2: The following is included under the single item “Net credit risk losses/reversals”: – net credit risk losses/reversals relating to financial assets measured at amortised cost (with the exception of those relating to the Npl Segment mentioned above) and to financial assets measured at fair value through other comprehensive income; – net allocations to provisions for risks and charges for credit risk relating to commitments and guarantees granted; – profits (losses) from the sale/repurchase of loans at amortised cost other than those of the Npl Segment.
A5: CONSOLIDATED INCOME STATEMENT: RECLASSIFIED QUARTERLY EVOLUTION | B5: YEAR 2026 | C5: YEAR 2025
B6: 1st Q | C6: 1st Q | D6: 2nd Q | E6: 3nd Q | F6: 4rd Q
A7: Net interest income | B7: 91.759 | C7: 130.754 | D7: 111.756 | E7: 101.165 | F7: 127.12351
A8: Net commission income | B8: 18.961 | C8: 20.525 | D8: 23.829 | E8: 22 | F8: 24.77
A9: Trading and other revenues | B9: 27.035 | C9: 27.514 | D9: 36.582 | E9: 15.593 | F9: 25.152
A10: Total Revenues | B10: 137.755 | C10: 178.793 | D10: 172.167 | E10: 138.758 | F10: 177.04551
A11: Loan loss provisions | B11: -9.78 | C11: -8.169 | D11: -10.991 | E11: -4.324 | F11: -4.8025108
A12: Total Revenues - LLP | B12: 127.975 | C12: 170.624 | D12: 161.176 | E12: 134.434 | F12: 172.243
A13: Personnel expenses | B13: -45.747 | C13: -42.18 | D13: -42.917 | E13: -45.185 | F13: -46.727
A14: Other administrative expenses | B14: -58.84433 | C14: -57.295 | D14: -61.952203 | E14: -57.626611 | F14: -66.219766
A15: Other net income/expenses | B15: -2.21 | C15: 1.937 | D15: 1.429 | E15: -0.521 | F15: 7.261
A16: Operating costs | B16: -106.80133 | C16: -97.538 | D16: -103.4402 | E16: -103.33261 | F16: -105.68577
A17: Charges related to the banking system | B17: -0.00367002 | C17: -0.01 | D17: -0.01079689 | E17: -0.02638911 | F17: -0.55323423
A18: Net allocations to provisions for risks and charges | B18: -0.033 | C18: 0.137 | D18: 5.398 | E18: -2.478 | F18: -7.43
... A26: Net income - attributable to the Parent company | B26: 10.84 | C26: 47.284 | D26: 39.834 | E26: 407.51182 | F26: -90.06907

Sheet Consolidated BS
A2: CONSOLIDATED STATEMENT OF FINANCIAL POSITION: QUARTERLY EVOLUTION | B2: YEAR 2026 | C2: YEAR 2025
B3: 31.03 | C3: 31.03 | D3: 30.06 | E3: 30.09 | F3: 31.12
A4: ASSETS
A5: Cash and cash equivalents | B5: 305.146 | C5: 385.66 | D5: 409.63 | E5: 390.41 | F5: 557.575
A6: Other financial assets mandatorily measured at fair value through profit or loss | B6: 268.175 | C6: 257.655 | D6: 253.218 | E6: 277.431 | F6: 279.253
A7: Financial assets measured at fair value through other comprehensive income | B7: 1007.38 | C7: 901.677 | D7: 997.992 | E7: 1163.145 | F7: 1115.137
A8: Receivables due from banks measured at amortised cost* | B8: 476.394 | C8: 589.491 | D8: 718.669 | E8: 563.969 | F8: 602.253
A9: Receivables due from customers measured at amortised cost | B9: 11485.3 | C9: 10551.764 | D9: 10703.704 | E9: 10548.417 | F9: 11090.415
A10: Property, plant and equipment | B10: 205.248 | C10: 185.565 | D10: 192.496 | E10: 195.871 | F10: 201.965
A11: Intangible assets | B11: 109.726 | C11: 87.998 | D11: 90.505 | E11: 91.335 | F11: 109.172
A12: Tax assets | B12: 247.769 | C12: 214.399 | D12: 181.564 | E12: 216.297 | F12: 247.971
A13: Other assets | B13: 357.319 | C13: 405.132 | D13: 413.619 | E13: 350.196 | F13: 357.725
A14: Total assets | B14: 14462.457 | C14: 13579.341 | D14: 13961.397 | E14: 13797.071 | F14: 14561.466
A18: CONSOLIDATED STATEMENT OF FINANCIAL POSITION: QUARTERLY EVOLUTION | B18: YEAR 2026 | C18: YEAR 2025
B19: 31.03 | C19: 31.03 | D19: 30.06 | E19: 30.09 | F19: 31.12
A20: LIABILITIES AND EQUITY
A21: Payables due to banks measured at amortised cost | B21: 2832.135 | C21: 1791.493 | D21: 2638.963 | E21: 2553.183 | F21: 3291.559
A22: Payables due to customers measured at amortised cost | B22: 6283.267 | C22: 6372.267 | D22: 6163.47 | E22: 6234.172 | F22: 6269.073
A23: Debt securities issued | B23: 3202.887 | C23: 3067.443 | D23: 2842.999 | E23: 2821.611 | F23: 2862.353
A24: Tax liabilities | B24: 103.331 | C24: 60.226 | D24: 48.906 | E24: 89.851 | F24: 93.107
A25: Other liabilities | B25: 460.664 | C25: 487.406 | D25: 468.034 | E25: 440.869 | F25: 466.459
A26: Group equity: | B26: n.a. | C26: 1800.506 | D26: 1799.025 | E26: n.a. | F26: n.a.
A27: - Share capital, share premiums and reserves | B27: n.a. | C27: 1753.222 | D27: 1711.907 | E27: n.a. | F27: n.a.
A28: - Net profit attributable to the Parent company | B28: n.a. | C28: 47.284 | D28: 87.118 | E28: n.a. | F28: n.a.
A29: Total liabilities and equity | B29: n.a. | C29: 13579.341 | D29: 13961.397 | E29: n.a. | F29: n.a.
C30: 0 | D30: 0

Sheet Segment
A6: Data in € mln* | B6: Npl | G6: Factoring | L6: Leasing | Q6: Corp. Banking & Lending | V6: Non core & G&S | AA6: Total
B9: 1Q25 | C9: 2Q25 | D9: 3Q25 | E9: 4Q25 | F9: 1Q26 | G9: 1Q25 | H9: 2Q25 | I9: 3Q25 | J9: 4Q25 | K9: 1Q26 | L9: 1Q25 | M9: 2Q25 | N9: 3Q25 | O9: 4Q25 | P9: 1Q26 | Q9: 1Q25 | R9: 2Q25 | S9: 3Q25 | T9: 4Q25 | U9: 1Q26 | V9: 1Q25 | W9: 2Q25 | X9: 3Q25 | Y9: 4Q25 | Z9: 1Q26 | AA9: 1Q25 | AB9: 2Q25 | AC9: 3Q25 | AD9: 4Q25 | AE9: 1Q26
A10: Net interest income | B10: 77.126518 | C10: 63.602265 | D10: 51.089848 | E10: 77.330271 | F10: 41.3856 | G10: 26.813661 | H10: 22.91766 | I10: 26.637377 | J10: 25.175025 | K10: 22.75988 | L10: 12.991804 | M10: 13.3098 | N10: 13.20585 | O10: 13.23458 | P10: 13.230642 | Q10: 15.869674 | R10: 16.976687 | S10: 16.022263 | T10: 15.85792 | U10: 16.594377 | V10: -2.0490467 | W10: -5.0510246 | X10: -5.7899382 | Y10: -4.4746649 | Z10: -2.2114094 | AA10: =B10+G10+L10+Q10+V10 -> 130.75261 | AB10: =C10+H10+M10+R10+W10 -> 111.75539 | AC10: =D10+I10+N10+S10+X10 -> 101.1654 | AD10: =E10+J10+O10+T10+Y10 -> 127.12313 | AE10: =F10+K10+P10+U10+Z10 -> 91.759088
A11: Net commission income | B11: -0.73651427 | C11: -0.029826531 | D11: -0.91211765 | E11: -0.74177054 | F11: -0.96006388 | G11: 14.361906 | H11: 14.999291 | I11: 14.836941 | J11: 14.806771 | K11: 14.613469 | L11: 3.0704609 | M11: 2.8799955 | N11: 2.4900144 | O11: 2.6647267 | P11: 2.9926787 | Q11: 4.1899295 | R11: 6.4734982 | S11: 5.7854074 | T11: 8.6952503 | U11: 4.4993132 | V11: -0.35972042 | W11: -0.49502037 | X11: -0.20024553 | Y11: -0.65497747 | Z11: -2.1843974 | AA11: =B11+G11+L11+Q11+V11 -> 20.526062 | AB11: =C11+H11+M11+R11+W11 -> 23.827938 | AC11: =D11+I11+N11+S11+X11 -> 22 | AD11: =E11+J11+O11+T11+Y11 -> 24.77 | AE11: =F11+K11+P11+U11+Z11 -> 18.961
A12: Trading & other revenues | B12: 4.1788857 | C12: 12.435815 | D12: 3.8855539 | E12: 11.905582 | F12: 6.7319847 | G12: -0.01667714 | H12: 0.02160982 | I12: -0.02818672 | J12: -0.0023489 | K12: -0.036507496 | L12: 0 | M12: 0 | N12: 0 | O12: 0 | P12: 0 | Q12: 12.632108 | R12: 5.5914558 | S12: 4.8923949 | T12: 4.4929794 | U12: 6.5238831 | V12: 10.720182 | W12: 18.53229 | X12: 6.8434581 | Y12: 8.754837 | Z12: 13.815155 | AA12: =B12+G12+L12+Q12+V12 -> 27.514499 | AB12: =C12+H12+M12+R12+W12 -> 36.58117 | AC12: =D12+I12+N12+S12+X12 -> 15.59322 | AD12: =E12+J12+O12+T12+Y12 -> 25.151049 | AE12: =F12+K12+P12+U12+Z12 -> 27.034515
A13: Net banking income | B13: 80.568889 | C13: 76.008253 | D13: 54.063284 | E13: 88.494082 | F13: 47.157521 | G13: 41.15889 | H13: 37.938561 | I13: 41.446132 | J13: 39.979447 | K13: 37.336841 | L13: 16.062264 | M13: 16.189796 | N13: 15.695864 | O13: 15.899306 | P13: 16.22332 | Q13: 32.691711 | R13: 29.041641 | S13: 26.700065 | T13: 29.04615 | U13: 27.617573 | V13: 8.3114153 | W13: 12.986245 | X13: 0.85327438 | Y13: 3.6251946 | Z13: 9.4193483 | AA13: =B13+G13+L13+Q13+V13 -> 178.79317 | AB13: =C13+H13+M13+R13+W13 -> 172.1645 | AC13: =D13+I13+N13+S13+X13 -> 138.75862 | AD13: =E13+J13+O13+T13+Y13 -> 177.04418 | AE13: =F13+K13+P13+U13+Z13 -> 137.7546
A14: -Of which PPA | B14: 0 | C14: 0 | D14: 0 | E14: 0 | F14: 0 | G14: 0 | H14: 0 | I14: 0 | J14: 0 | K14: 0 | L14: 0 | M14: 0 | N14: 0 | O14: 0 | P14: 0 | Q14: 0 | R14: 0 | S14: 0 | T14: 0 | U14: 0 | V14: 0.21364822 | W14: 0.19810869 | X14: 0.19418443 | Y14: 0.40240565 | Z14: 0 | AA14: =B14+G14+L14+Q14+V14 -> 0.21364822 | AB14: =C14+H14+M14+R14+W14 -> 0.19810869 | AC14: =D14+I14+N14+S14+X14 -> 0.19418443 | AD14: =E14+J14+O14+T14+Y14 -> 0.40240565 | AE14: =F14+K14+P14+U14+Z14 -> 0
A15: Loan loss provisions | B15: -0.0049487837 | C15: 0.01411748 | D15: 0.00600009 | E15: -0.15784311 | F15: 0.0066806733 | G15: -0.53950704 | H15: 0.808856 | I15: -4.6017354 | J15: -3.6854457 | K15: -1.3855732 | L15: -1.2708228 | M15: -2.2241022 | N15: 0.10893396 | O15: -1.1933877 | P15: -0.60938028 | Q15: -9.8917733 | R15: -8.1755005 | S15: -0.89001882 | T15: -2.7678272 | U15: -8.7984298 | V15: 3.5387053 | W15: -1.4166943 | X15: 1.0528815 | Y15: 3.0031117 | Z15: 1.0069908 | AA15: =B15+G15+L15+Q15+V15 -> -8.1683466 | AB15: =C15+H15+M15+R15+W15 -> -10.993324 | AC15: =D15+I15+N15+S15+X15 -> -4.3239387 | AD15: =E15+J15+O15+T15+Y15 -> -4.801392 | AE15: =F15+K15+P15+U15+Z15 -> -9.7797118
A16: Operating costs | B16: -45.818104 | C16: -49.843214 | D16: -42.871453 | E16: -51.982211 | F16: -45.133763 | G16: -25.776698 | H16: -23.881117 | I16: -27.727171 | J16: -23.435948 | K16: -29.333937 | L16: -8.0232973 | M16: -8.5621012 | N16: -9.5729935 | O16: -8.3049969 | P16: -8.6669267 | Q16: -9.4036592 | R16: -10.880148 | S16: -11.542121 | T16: -12.794501 | U16: -13.592363 | V16: -8.5162412 | W16: -10.273623 | X16: -11.618873 | Y16: -9.1681089 | Z16: -10.07534 | AA16: =B16+G16+L16+Q16+V16 -> -97.538 | AB16: =C16+H16+M16+R16+W16 -> -103.4402 | AC16: =D16+I16+N16+S16+X16 -> -103.33261 | AD16: =E16+J16+O16+T16+Y16 -> -105.68577 | AE16: =F16+K16+P16+U16+Z16 -> -106.80233
A17: Charges related to the banking system | B17: 0 | C17: 0 | D17: 0 | E17: 0 | F17: 0 | H17: 0 | J17: 0 | K17: 0 | M17: 0 | N17: 0 | O17: 0 | P17: 0 | Q17: 0 | R17: 0 | T17: 0 | U17: 0 | V17: -0.01024468 | W17: -0.01029417 | X17: -0.02704122 | Y17: -0.5526278 | Z17: -0.00341588 | AA17: =B17+G17+L17+Q17+V17 -> -0.01024468 | AB17: =C17+H17+M17+R17+W17 -> -0.01029417 | AC17: =D17+I17+N17+S17+X17 -> -0.02704122 | AD17: =E17+J17+O17+T17+Y17 -> -0.5526278 | AE17: =F17+K17+P17+U17+Z17 -> -0.00341588
A18: Net allocations to provisions for risks and charges | B18: 0.0079 | C18: -0.113025 | D18: -0.0509 | E18: -2.5276144 | F18: 0.04603421 | G18: 0.33296828 | H18: 3.7648225 | I18: -2.1656566 | J18: -3.8138492 | K18: 0.1374153 | L18: 0.07883289 | M18: 0.01238939 | N18: 0 | O18: 0.050817 | P18: -0.01534816 | Q18: -0.28270461 | R18: 0.03979001 | S18: -0.07898718 | T18: 0.00376835 | U18: 0.07104809 | V18: 0 | W18: 1.6938023 | X18: -0.18155756 | Y18: -1.1427136 | Z18: -0.27078652 | AA18: =B18+G18+L18+Q18+V18 -> 0.13699656 | AB18: =C18+H18+M18+R18+W18 -> 5.3977792 | AC18: =D18+I18+N18+S18+X18 -> -2.4771013 | AD18: =E18+J18+O18+T18+Y18 -> -7.4295918 | AE18: =F18+K18+P18+U18+Z18 -> -0.03163708
A19: Non recurring items | B19: 0 | C19: 0 | E19: 0 | F19: 0 | G19: 0 | H19: 0 | J19: 0 | K19: 0 | M19: 0 | N19: 0 | O19: 0 | P19: 0 | Q19: 0 | R19: 0 | T19: 0 | U19: 0 | V19: -4.423865 | W19: -5.1369477 | X19: 382.44661 | Y19: -150.07204 | Z19: -3.0219329 | AA19: =B19+G19+L19+Q19+V19 -> -4.423865 | AB19: =C19+H19+M19+R19+W19 -> -5.1369477 | AC19: =D19+I19+N19+S19+X19 -> 382.44661 | AD19: =E19+J19+O19+T19+Y19 -> -150.07204 | AE19: =F19+K19+P19+U19+Z19 -> -3.0219329
A20: Profit (loss) from investments | F20: 0 | K20: 0 | P20: 0 | U20: 0 | Z20: -0.1 | AA20: =B20+G20+L20+Q20+V20 -> 0 | AB20: =C20+H20+M20+R20+W20 -> 0 | AC20: =D20+I20+N20+S20+X20 -> 0 | AD20: =E20+J20+O20+T20+Y20 -> 0 | AE20: =F20+K20+P20+U20+Z20 -> -0.1
A21: Gains (Losses) on disposal of investments | B21: 0 | C21: 0 | E21: 0 | F21: 0 | G21: 0 | H21: 0 | J21: 0 | K21: 0 | M21: 0 | N21: 0 | O21: 0 | P21: 0 | Q21: 0 | R21: 0 | T21: 0 | U21: 0 | V21: 0 | W21: 0 | X21: 0 | Y21: 0 | Z21: 0 | AA21: =B21+G21+L21+Q21+V21 -> 0 | AB21: =C21+H21+M21+R21+W21 -> 0 | AC21: =D21+I21+N21+S21+X21 -> 0 | AD21: =E21+J21+O21+T21+Y21 -> 0 | AE21: =F21+K21+P21+U21+Z21 -> 0
A22: Net income | B22: 24.09641 | C22: 18.100441 | D22: 7.7281582 | E22: 23.451824 | F22: 1.289359 | G22: 10.520562 | H22: 12.929523 | I22: 4.8195169 | J22: 6.2703389 | K22: 4.1890204 | L22: 4.7471363 | M22: 3.7605712 | N22: 4.3205049 | O22: 4.4729851 | P22: 4.3017907 | Q22: 9.090884 | R22: 6.9617385 | S22: 9.8371789 | T22: 9.350935 | U22: 3.288067 | V22: -0.76350336 | W22: -1.4967125 | X22: 381.082 | Y22: -133.2074 | Z22: -2.1654744 | AA22: =B22+G22+L22+Q22+V22 -> 47.691489 | AB22: =C22+H22+M22+R22+W22 -> 40.255561 | AC22: =D22+I22+N22+S22+X22 -> 407.78735 | AD22: =E22+J22+O22+T22+Y22 -> -89.661313 | AE22: =F22+K22+P22+U22+Z22 -> 10.902763
A23: Net income attributable to non-controlling interests | AA23: ='Consolidate PL'!C25 -> -0.407 | AB23: ='Consolidate PL'!D25 -> -0.368 | AC23: ='Consolidate PL'!E25 -> -0.275 | AD23: ='Consolidate PL'!F25 -> -0.407 | AE23: ='Consolidate PL'!B25 -> -0.337
A24: Net income attributable to the Parent company | AA24: =AA22+AA23 -> 47.284489 | AB24: =AB22+AB23 -> 39.887561 | AC24: =AC22+AC23 -> 407.51235 | AD24: =AD22+AD23 -> -90.068313 | AE24: =AE22+AE23 -> 10.565763
A25: Net income % | B25: 0.50525598 | C25: 0.44963828 | D25: 0.018951442 | E25: -0.26156012 | F25: 0.11825984 | G25: 0.22059622 | H25: 0.321186 | I25: 0.011818701 | J25: -0.069933606 | K25: 0.38421641 | L25: 0.099538438 | M25: 0.093417433 | N25: 0.010594995 | O25: -0.049887571 | P25: 0.39455969 | Q25: 0.19061858 | R25: 0.17293855 | S25: 0.024123305 | T25: -0.10429175 | U25: 0.30158109 | V25: -0.016009216 | W25: -0.037180268 | X25: 0.93451156 | Y25: 1.485673 | Z25: -0.19861704 | AA25: 1 | AB25: 1 | AC25: 1 | AD25: 1 | AE25: 1
A27: Customer Loans* | B27: 1520.463 | C27: 1546.796 | D27: 1541.414 | E27: 1592.328 | F27: 1564.255 | G27: 2647.398 | H27: 2710.9988 | I27: 2585.249 | J27: 2772.1305 | K27: 2613.423 | L27: 1603.239 | M27: 1622.9576 | N27: 1610.925 | O27: 1673.4977 | P27: 1662.055 | Q27: 2481.886 | R27: 2599.9508 | S27: 2633.282 | T27: 2770.8992 | U27: 2823.644 | V27: 2298.778 | W27: 2223.0008 | X27: 2177.547 | Y27: 2281.5595 | Z27: 2821.923 | AA27: =B27+G27+L27+Q27+V27 -> 10551.764 | AB27: =C27+H27+M27+R27+W27 -> 10703.704 | AC27: =D27+I27+N27+S27+X27 -> 10548.417 | AD27: 11090.415 | AE27: =F27+K27+P27+U27+Z27 -> 11485.3
A28: RWA 1 | B28: 1737.3778 | C28: 1755.876 | D28: 1737.3249 | E28: 1819.3692 | F28: 1781.8101 | G28: 2751.5777 | H28: 2752.8664 | I28: 2541.055 | J28: 2467.6305 | K28: 2429.8921 | L28: 1212.3714 | M28: 1238.6047 | N28: 1230.5441 | O28: 1288.9395 | P28: 1296.7699 | Q28: 1924.3375 | R28: 2055.4045 | S28: 2096.6443 | T28: 2166.5099 | U28: 2201.2516 | V28: 1037.3886 | W28: 1115.9598 | X28: 1158.1537 | Y28: 1215.1492 | Z28: 1175.6125 | AA28: =B28+G28+L28+Q28+V28 -> 8663.0531 | AB28: =C28+H28+M28+R28+W28 -> 8918.7114 | AC28: =D28+I28+N28+S28+X28 -> 8763.722 | AD28: 8957.5983 | AE28: =F28+K28+P28+U28+Z28 -> 8885.3361
A29: Allocated capital 2 | B29: 287.54639 | C29: 290.02488 | D29: 247.59628 | E29: 236.51799 | F29: 244.27321 | G29: 455.40254 | H29: 454.70168 | I29: 362.14053 | J29: 320.79196 | K29: 333.12055 | L29: 200.65471 | M29: 204.58516 | N29: 175.372 | O29: 167.56214 | P29: 177.77773 | Q29: 318.48935 | R29: 339.49918 | S29: 298.80498 | T29: 281.64629 | U29: 301.7756 | V29: 171.69401 | W29: 184.32743 | X29: 165.05523 | Y29: 157.9694 | Z29: 161.16793 | AA29: =B29+G29+L29+Q29+V29 -> 1433.787 | AB29: =C29+H29+M29+R29+W29 -> 1473.1383 | AC29: =D29+I29+N29+S29+X29 -> 1248.969 | AD29: 1164.4878 | AE29: =F29+K29+P29+U29+Z29 -> 1218.115
A30: (1) RWA Credit and counterparty risk only. It excludes RWA from operating, market risks and CVA;
A31: (2) RWA (Credit and counterparty risk only) x CET1.
A32: * Source: management accounting data

Sheet Npl
B3: GBV - €mln* | C3: 1Q 25 | D3: 2Q 25 | E3: 3Q 25 | F3: 4Q 25 | G3: 1Q 26
B4: Waiting for workout - Positions at cost | C4: 323.6155 | D4: 563.35397 | E4: 453.14566 | F4: 497.89292 | G4: 341.22529
B5: Extrajudicial positions | C5: 10862.125 | D5: 10368.69 | E5: 9201.8016 | F5: 8871.7616 | G5: 8215.5007
B6: - Ongoing attempt of recovery | C6: 10258.698 | D6: 9803.964 | E6: 8651.5499 | F6: 8307.5723 | G6: 7618.2578
B7: - Non-judicial payment plans | C7: 603.42724 | D7: 564.72551 | E7: 550.25173 | F7: 564.1893 | G7: 597.24292
B8: Judicial positions | C8: 8868.588 | D8: 8057.7523 | E8: 8627.2142 | F8: 8449.3346 | G8: 8292.0453
B9: - Freezed** | C9: 2577.1 | D9: 2172.6932 | E9: 1410.2049 | F9: 1372.3395 | G9: 1309.0918
B10: - Court injunction [“precetto”] issued and foreclosure | C10: 1310.9718 | D10: 1190.7824 | E10: 1191.3321 | F10: 1088.6192 | G10: 1076.1687
B11: - Order of assignment | C11: 928.87321 | D11: 942.34421 | E11: 986.65079 | F11: 997.89367 | G11: 1020.3956
B12: - Secured and Corporate | C12: 4051.643 | D12: 3751.9324 | E12: 5039.0263 | F12: 4990.4823 | G12: 4886.3893
B13: Total | C13: 20054.329 | D13: 18989.796 | E13: 18282.162 | F13: 17818.989 | G13: 16848.771
B17: NBV - €mln* | C17: 1Q 25 | D17: 2Q 25 | E17: 3Q 25 | F17: 4Q 25 | G17: 1Q 26
B18: Waiting for workout - Positions at cost | C18: 41.806152 | D18: 107.1168 | E18: 119.65115 | F18: 138.98851 | G18: 100.2753
B19: Extrajudicial positions | C19: 507.82711 | D19: 478.50276 | E19: 456.94958 | F19: 479.02401 | G19: 498.52028
B20: - Ongoing attempt of recovery | C20: 197.18071 | D20: 184.71892 | E20: 171.41846 | F20: 183.93568 | G20: 182.39442
B21: - Non-judicial payment plans | C21: 310.64641 | D21: 293.78383 | E21: 285.53112 | F21: 295.08833 | G21: 316.12586
B22: Judicial positions | C22: 957.39717 | D22: 948.00685 | E22: 948.5613 | F22: 930.80291 | G22: 922.92433
B23: - Freezed** | C23: 142.24408 | D23: 140.70989 | E23: 138.53476 | F23: 139.46273 | G23: 147.16944
B24: - Court injunction [“precetto”] issued and foreclosure | C24: 269.66418 | D24: 256.85868 | E24: 244.56667 | F24: 235.76484 | G24: 220.62877
B25: - Order of assignment | C25: 388.83859 | D25: 397.11646 | E25: 403.6541 | F25: 399.20753 | G25: 400.44961
B26: - Secured and Corporate | C26: 156.65032 | D26: 153.32183 | E26: 161.80577 | F26: 156.36781 | G26: 154.67651
B27: Total | C27: 1507.0304 | D27: 1533.6264 | E27: 1525.162 | F27: 1548.8154 | G27: 1521.7199
B32: P&L - €mln* | C32: 1Q 25 | D32: 2Q 25 | E32: 3Q 25 | F32: 4Q 25 | G32: 1Q 26
B33: Waiting for workout - Positions at cost
B34: Extrajudicial positions | C34: 30.80401 | D34: 20.203951 | E34: 13.15489 | F34: 42.136169 | G34: 14.189514
B35: - Ongoing attempt of recovery | C35: -1.3049048 | D35: -2.9687937 | E35: -2.1821275 | F35: 20.469214 | G35: -4.2274864
B36: - Non-judicial payment plans | C36: 32.108915 | D36: 23.172745 | E36: 15.337017 | F36: 21.666955 | G36: 18.417
B37: Judicial positions | C37: 55.241398 | D37: 53.028177 | E37: 48.138632 | F37: 46.065696 | G37: 37.951488
B38: - Freezed** | C38: 0 | D38: 0 | E38: 0 | F38: 0 | G38: 0
B39: - Court injunction and foreclosure + Order of assignment | C39: 47.502218 | D39: 46.950463 | E39: 40.991768 | F39: 41.156741 | G39: 32.910838
B40: - Secured and Corporate | C40: 7.7391807 | D40: 6.0777137 | E40: 7.1468646 | F40: 4.9089545 | G40: 5.0406496
B41: Total | C41: 86.045408 | D41: 73.232128 | E41: 61.293522 | F41: 88.201865 | G41: 52.141002
B45: Cash - €mln* | C45: 1Q 25 | D45: 2Q 25 | E45: 3Q 25 | F45: 4Q 25 | G45: 1Q 26
B46: Waiting for workout - Positions at cost
B47: Extrajudicial positions | C47: 52.353784 | D47: 48.983344 | E47: 45.025975 | F47: 50.451026 | G47: 47.852566
B48: - Ongoing attempt of recovery | C48: 4.7817158 | D48: 4.1498585 | E48: 4.1796103 | F48: 3.4133593 | G48: 2.3430531
B49: - Non-judicial payment plans | C49: 47.572068 | D49: 44.833486 | E49: 40.846365 | F49: 47.037666 | G49: 45.509513
B50: Judicial positions | C50: 48.280886 | D50: 45.543595 | E50: 48.894891 | F50: 52.764973 | G50: 50.267548
B51: - Freezed** | C51: 0 | D51: 0 | E51: 0 | F51: 0 | G51: 0
B52: - Court injunction and foreclosure + Order of assignment | C52: 39.578065 | D52: 37.73484 | E52: 38.998878 | F52: 41.609623 | G52: 41.677457
...

Sheet Disclaimer
B4: The information and opinions contained in this excel are provided as at the date hereof and are subject to change without notice. Neither this excel nor any part of it nor the fact of its distribution may form the basis of, or be relied on or in connection with, any contract or investment decision. The information, statements and opinions contained in this excel are for information purposes only and do not constitute a public offer under any applicable legislation or an offer to sell or solicitation of an offer to purchase or subscribe for securities or financial instruments or any advice or recommendation with respect to such securities or other financial instruments. None of the securities referred to herein have been, or will be, registered under the U.S. Securities Act of 1933, as amended, or the securities laws of any state or other jurisdiction of the United States or in Australia, Canada or Japan or any other jurisdiction where such an offer or solicitation would be unlawful (the “Other Countries”), and there will be no public offer of any such securities in the United States. This excel does not constitute or form a part of any offer or solicitation to purchase or subscribe for securities in the United States or the Other Countries. Neither the Company nor any member of Banca Ifis nor any of its or their respective representatives directors or employees accept any liability whatsoever in connection with this excel or any of its contents or in relation to any loss arising from its use or from any reliance placed upon it
